BEGIN:VCALENDAR
VERSION:2.0
PRODID:-//Maui Nui Marine Resource Council - ECPv6.8.2.1//NONSGML v1.0//EN
CALSCALE:GREGORIAN
METHOD:PUBLISH
X-ORIGINAL-URL:https://www.mauireefs.org
X-WR-CALDESC:Events for Maui Nui Marine Resource Council
REFRESH-INTERVAL;VALUE=DURATION:PT1H
X-Robots-Tag:noindex
X-PUBLISHED-TTL:PT1H
BEGIN:VTIMEZONE
TZID:UTC
BEGIN:STANDARD
TZOFFSETFROM:+0000
TZOFFSETTO:+0000
TZNAME:UTC
DTSTART:20180101T000000
END:STANDARD
END:VTIMEZONE
BEGIN:VEVENT
DTSTART;TZID=UTC:20180130T170000
DTEND;TZID=UTC:20180130T220000
DTSTAMP:20260421T235519
CREATED:20171214T080623Z
LAST-MODIFIED:20171214T080623Z
UID:10000012-1517331600-1517349600@www.mauireefs.org
SUMMARY:Flatbread Company Benefit
DESCRIPTION:Enjoy some exceptionally delicious pizza at Flatbread Company at 89 Hana Highway in Paia on Tuesday\, January 30 between 5 pm and 10 pm and help raise needed funds for Maui Nui Marine Resource Council’s work to restore healthy coral reefs\, clean ocean water and abundant native fish for the islands of Maui County. The Flatbread Company will donate $3.50 for each large flatbread and $1.75 for each small flatbread sold during the benefit. Come join the fun\, and meet our MNMRC team and learn about MNMRC’s newest projects and programs for 2018.
URL:https://www.mauireefs.org/event/flatbread-company-benefit/
LOCATION:Flatbread Company\, 89 Hana Hwy\, Paia\, HI\, 96779\, United States
ATTACH;FMTTYPE=image/jpeg:https://www.mauireefs.org/wp-content/uploads/2017/12/flatbread.jpg
GEO:20.9158721;-156.3820571
X-APPLE-STRUCTURED-LOCATION;VALUE=URI;X-ADDRESS=Flatbread Company 89 Hana Hwy Paia HI 96779 United States;X-APPLE-RADIUS=500;X-TITLE=89 Hana Hwy:geo:-156.3820571,20.9158721
END:VEVENT
END:VCALENDAR